BEGIN:VCALENDAR
VERSION:2.0
PRODID:-//QMEA - ECPv5.0.1//NONSGML v1.0//EN
CALSCALE:GREGORIAN
METHOD:PUBLISH
X-WR-CALNAME:QMEA
X-ORIGINAL-URL:https://qmea.org.au
X-WR-CALDESC:Events for QMEA
BEGIN:VTIMEZONE
TZID:UTC
BEGIN:STANDARD
TZOFFSETFROM:+0000
TZOFFSETTO:+0000
TZNAME:UTC
DTSTART:20200101T000000
END:STANDARD
END:VTIMEZONE
BEGIN:VEVENT
DTSTART;TZID=UTC:20200218T090000
DTEND;TZID=UTC:20200218T150000
DTSTAMP:20200228T082514
CREATED:20200211T224221Z
LAST-MODIFIED:20200217T060523Z
UID:13066-1582016400-1582038000@qmea.org.au
SUMMARY:STEM Unearthed @ The Gap State High School
DESCRIPTION:This QMEA STEM Unearthed day will provide Year 10 students from The Gap State High School and Everton Park State High School with an insight into the professional careers in the minerals and energy industry.\nDuring the one day workshop\, students will complete three practical activities which will focus on a number of areas of science\, engineering and maths. These hands-on activities are based on real world activities conducted by minerals and energy professionals.\nThe students will have the opportunity to network with industry professionals who work on minerals and energy worksites andunderstand more about their roles\, their career paths and what theydo.\nBENEFITS FOR STUDENTS\n\n\n\nCareer information about working in the minerals and energy sector\n\n\nIndustry professionals as guest speakers\n\n\nNetworking with those currently in the minerals and energy sector\n\n\nChallenging practical activities with real world applications to the minerals & energy sector.\n\n\nParticipants will be encouraged to take part in further opportunities such as the QMEA Ambassadors program and QMEA Challenge Camps\n\n\n\n
URL:https://qmea.org.au/event/stem-unearthed-the-gap-state-high-school/
LOCATION:The Gap State High School\, 1020 Waterworks Road\, The Gap\, QLD 4061\, The Gap\, 4061\, AU
ATTACH;FMTTYPE=image/jpeg:https://qmea.org.au/wp-content/uploads/2020/02/13066_image.jpg
END:VEVENT
END:VCALENDAR